{
  "id" : 3914, 
  "name" : "DEIMOS_nomenclature", 
  "server" : "V6ZHFr6zdgNZuVG0", 
  "serviceItemId" : "109d3e233bea4c5895e05ffe1ba2b30a", 
  "ownerUserName" : "", 
  "serviceDescription" : "\u003cDIV STYLE=\"text-align:Left;font-size:12pt\"\u003e\u003cP\u003e\u003cSPAN\u003e2 place names on the Deimos moon.\u003c/SPAN\u003e\u003c/P\u003e\u003cP\u003e\u003cSPAN /\u003e\u003c/P\u003e\u003cP\u003e\u003cSPAN\u003eData downloaded from https://planetarynames.wr.usgs.gov/GIS_Downloads on 2017-01-23.\u003c/SPAN\u003e\u003c/P\u003e\u003c/DIV\u003e", 
  "mapName" : "DEIMOS_nomenclature", 
  "description" : "\u003cDIV STYLE=\"text-align:Left;font-size:12pt\"\u003e\u003cP\u003e\u003cSPAN\u003e2 place names on the Deimos moon.\u003c/SPAN\u003e\u003c/P\u003e\u003cP\u003e\u003cSPAN /\u003e\u003c/P\u003e\u003cP\u003e\u003cSPAN\u003eData downloaded from https://planetarynames.wr.usgs.gov/GIS_Downloads on 2017-01-23.\u003c/SPAN\u003e\u003c/P\u003e\u003c/DIV\u003e", 
  "abstract" : "", 
  "metadataLink" : "", 
  "keywords" : [], 
  "copyrightText" : "IAU", 
  "layers" : [
    {
      "id" : 0, 
      "name" : "DEIMOS_nomenclature", 
      "parentLayerId" : -1, 
      "defaultVisibility" : true, 
      "subLayerIds" : null, 
      "minScale" : 0, 
      "maxScale" : 0, 
      "type" : "Feature Layer", 
      "geometryType" : "esriGeometryPoint"
    }
  ], 
  "tables" : [], 
  "spatialReference" : {
    "wkid" : 102100, 
    "latestWkid" : 3857
  }, 
  "singleFusedMapCache" : true, 
  "tileInfo" : {"rows":256,"cols":256,"dpi":96,"preciseDpi":96,"format":"PNG32","storageFormat":"esriMapCacheStorageModeExploded","packetSize":128,"compressionQuality":0,"antialiasing":true,"origin":{"x":-20037508.342787,"y":20037508.342787},"spatialReference":{"wkid":102100,"latestWkid":3857},"lods":[{"level":0,"resolution":156543.033928,"scale":591657527.591555},{"level":1,"resolution":78271.5169639999,"scale":295828763.795777},{"level":2,"resolution":39135.7584820001,"scale":147914381.897889},{"level":3,"resolution":19567.8792409999,"scale":73957190.948944},{"level":4,"resolution":9783.93962049996,"scale":36978595.474472},{"level":5,"resolution":4891.96981024998,"scale":18489297.737236},{"level":6,"resolution":2445.98490512499,"scale":9244648.868618},{"level":7,"resolution":1222.99245256249,"scale":4622324.434309},{"level":8,"resolution":611.49622628138,"scale":2311162.217155},{"level":9,"resolution":305.748113140558,"scale":1155581.108577},{"level":10,"resolution":152.874056570411,"scale":577790.554289},{"level":11,"resolution":76.4370282850732,"scale":288895.277144},{"level":12,"resolution":38.2185141425366,"scale":144447.638572},{"level":13,"resolution":19.1092570712683,"scale":72223.819286},{"level":14,"resolution":9.55462853563415,"scale":36111.909643},{"level":15,"resolution":4.77731426794937,"scale":18055.954822},{"level":16,"resolution":2.38865713397468,"scale":9027.977411},{"level":17,"resolution":1.19432856685505,"scale":4513.988705},{"level":18,"resolution":0.597164283559817,"scale":2256.994353},{"level":19,"resolution":0.298582141647617,"scale":1128.497176},{"level":20,"resolution":0.14929107082380833,"scale":564.248588},{"level":21,"resolution":0.074645535411904163,"scale":282.124294},{"level":22,"resolution":0.037322767705952081,"scale":141.062147}]}, 
  "minLOD" : 2, 
  "maxLOD" : 5, 
  "initialExtent" : {
    "xmin" : -20037507.067161843, 
    "ymin" : 1402665.1900021164, 
    "xmax" : 20037507.067161843, 
    "ymax" : 2511525.2348697023, 
    "spatialReference" : {
      "wkid" : 102100, 
      "latestWkid" : 3857
    }
  }, 
  "fullExtent" : {
    "xmin" : -20037507.067161843, 
    "ymin" : 1402665.1900021164, 
    "xmax" : 20037507.067161843, 
    "ymax" : 2511525.2348697023, 
    "spatialReference" : {
      "wkid" : 102100, 
      "latestWkid" : 3857
    }
  }, 
  "units" : "esriMeters", 
  "supportedImageFormatTypes" : "", 
  "created" : null, 
  "modified" : null, 
  "status" : "created", 
  "access" : "SECURE", 
  "minScale" : 147914382, 
  "maxScale" : 12333319, 
  "exportTilesAllowed" : false, 
  "maxExportTilesCount" : 100000, 
  "cacheOnDemand" : false, 
  "capabilities" : "Map,TilesOnly,Tilemap", 
  "type" : "MapServer", 
  "currentVersion" : 12
}