<Capabilities xmlns="http://www.opengis.net/wmts/1.0" xmlns:ows="http://www.opengis.net/ows/1.1" xmlns:xlink="http://www.w3.org/1999/xlink" xmlns:xsi="http://www.w3.org/2001/XMLSchema-instance" xmlns:gml="http://www.opengis.net/gml" xsi:schemaLocation="http://www.opengis.net/wmts/1.0 http://schemas.opengis.net/wmts/1.0/wmtsGetCapabilities_response.xsd" version="1.0.0"><!-- Service Identification --> <ows:ServiceIdentification><ows:Title>Census2010_CongressionalDistricts2</ows:Title><ows:ServiceType>OGC WMTS</ows:ServiceType><ows:ServiceTypeVersion>1.0.0</ows:ServiceTypeVersion><Abstract xmlns="ows" /><ows:Keywords><Keyword xmlns="ows">One &amp; another &amp;quot; third</Keyword></ows:Keywords></ows:ServiceIdentification><!-- Operations Metadata --><ows:OperationsMetadata><ows:Operation name="GetCapabilities"><ows:DCP><ows:HTTP><ows:Get xlink:href="https://services-gtaahxbubve6cdc5.a01.azurefd.net/V6ZHFr6zdgNZuVG0/ArcGIS/rest/services/Congressional_Districts/MapServer/WMTS/1.0.0/WMTSCapabilities.xml"><ows:Constraint name="GetEncoding"><ows:AllowedValues> <ows:Value>RESTful</ows:Value></ows:AllowedValues></ows:Constraint> </ows:Get><ows:Get xlink:href="https://services-gtaahxbubve6cdc5.a01.azurefd.net/V6ZHFr6zdgNZuVG0/ArcGIS/rest/services/Congressional_Districts/MapServer/WMTS?"> <ows:Constraint name="GetEncoding"><ows:AllowedValues><ows:Value>KVP</ows:Value></ows:AllowedValues></ows:Constraint></ows:Get></ows:HTTP></ows:DCP></ows:Operation><ows:Operation name="GetTile"><ows:DCP><ows:HTTP><ows:Get xlink:href="https://services-gtaahxbubve6cdc5.a01.azurefd.net/V6ZHFr6zdgNZuVG0/ArcGIS/rest/services/Congressional_Districts/MapServer/WMTS/tile/1.0.0/"><ows:Constraint name="GetEncoding"><ows:AllowedValues><ows:Value>RESTful</ows:Value></ows:AllowedValues></ows:Constraint></ows:Get><ows:Get xlink:href="https://services-gtaahxbubve6cdc5.a01.azurefd.net/V6ZHFr6zdgNZuVG0/ArcGIS/rest/services/Congressional_Districts/MapServer/WMTS?"><ows:Constraint name="GetEncoding"><ows:AllowedValues><ows:Value>KVP</ows:Value></ows:AllowedValues></ows:Constraint></ows:Get></ows:HTTP></ows:DCP></ows:Operation></ows:OperationsMetadata><!-- Contents --><Contents><!-- Layer --><Layer><ows:Title>Congressional_Districts</ows:Title><ows:Identifier>Congressional_Districts</ows:Identifier><ows:BoundingBox crs="urn:ogc:def:crs:EPSG::3857"><ows:LowerCorner>-19852951.7590215 2024070.46851721</ows:LowerCorner><ows:UpperCorner>-7260380.7554498 11523912.0367012</ows:UpperCorner></ows:BoundingBox><ows:WGS84BoundingBox crs="urn:ogc:def:crs:OGC:2:84"><ows:LowerCorner>-178.342100000166 17.8848127164844</ows:LowerCorner><ows:UpperCorner>-65.2211100114779 71.3525608929558</ows:UpperCorner></ows:WGS84BoundingBox><Style isDefault="true"><ows:Title>Default Style</ows:Title><ows:Identifier>default</ows:Identifier></Style><Format>image/png</Format><TileMatrixSetLink><TileMatrixSet>default028mm</TileMatrixSet></TileMatrixSetLink><ResourceURL format="image/png" resourceType="tile" template="https://services-gtaahxbubve6cdc5.a01.azurefd.net/V6ZHFr6zdgNZuVG0/ArcGIS/rest/services/Congressional_Districts/MapServer/WMTS/tile/1.0.0/Congressional_Districts/{Style}/{TileMatrixSet}/{TileMatrix}/{TileRow}/{TileCol}.png"/></Layer><!-- Tile Matrix Set --><TileMatrixSet><ows:Title>TileMatrix using 0.28mm</ows:Title><ows:Abstract>The tile matrix set that has scale values calculated based on the dpi defined by OGC specification (dpi assumes 0.28mm as the physical distance of a pixel).</ows:Abstract><ows:Identifier>default028mm</ows:Identifier><ows:SupportedCRS>urn:ogc:def:crs:EPSG::3857</ows:SupportedCRS><TileMatrix><ows:Identifier>0</ows:Identifier><ScaleDenominator>559081145.864044</ScaleDenominator><TopLeftCorner>-20037508.342787 20037508.342787</TopLeftCorner><TileWidth>256</TileWidth> <TileHeight>256</TileHeight><MatrixWidth>1</MatrixWidth><MatrixHeight>1</MatrixHeight></TileMatrix><TileMatrix><ows:Identifier>1</ows:Identifier><ScaleDenominator>279540572.932021</ScaleDenominator><TopLeftCorner>-20037508.342787 20037508.342787</TopLeftCorner><TileWidth>256</TileWidth> <TileHeight>256</TileHeight><MatrixWidth>1</MatrixWidth><MatrixHeight>1</MatrixHeight></TileMatrix><TileMatrix><ows:Identifier>2</ows:Identifier><ScaleDenominator>139770286.466011</ScaleDenominator><TopLeftCorner>-20037508.342787 20037508.342787</TopLeftCorner><TileWidth>256</TileWidth> <TileHeight>256</TileHeight><MatrixWidth>2</MatrixWidth><MatrixHeight>2</MatrixHeight></TileMatrix><TileMatrix><ows:Identifier>3</ows:Identifier><ScaleDenominator>69885143.2330051</ScaleDenominator><TopLeftCorner>-20037508.342787 20037508.342787</TopLeftCorner><TileWidth>256</TileWidth> <TileHeight>256</TileHeight><MatrixWidth>3</MatrixWidth><MatrixHeight>4</MatrixHeight></TileMatrix><TileMatrix><ows:Identifier>4</ows:Identifier><ScaleDenominator>34942571.6165026</ScaleDenominator><TopLeftCorner>-20037508.342787 20037508.342787</TopLeftCorner><TileWidth>256</TileWidth> <TileHeight>256</TileHeight><MatrixWidth>6</MatrixWidth><MatrixHeight>8</MatrixHeight></TileMatrix><TileMatrix><ows:Identifier>5</ows:Identifier><ScaleDenominator>17471285.8082513</ScaleDenominator><TopLeftCorner>-20037508.342787 20037508.342787</TopLeftCorner><TileWidth>256</TileWidth> <TileHeight>256</TileHeight><MatrixWidth>11</MatrixWidth><MatrixHeight>15</MatrixHeight></TileMatrix><TileMatrix><ows:Identifier>6</ows:Identifier><ScaleDenominator>8735642.90412564</ScaleDenominator><TopLeftCorner>-20037508.342787 20037508.342787</TopLeftCorner><TileWidth>256</TileWidth> <TileHeight>256</TileHeight><MatrixWidth>21</MatrixWidth><MatrixHeight>29</MatrixHeight></TileMatrix><TileMatrix><ows:Identifier>7</ows:Identifier><ScaleDenominator>4367821.45206282</ScaleDenominator><TopLeftCorner>-20037508.342787 20037508.342787</TopLeftCorner><TileWidth>256</TileWidth> <TileHeight>256</TileHeight><MatrixWidth>41</MatrixWidth><MatrixHeight>58</MatrixHeight></TileMatrix><TileMatrix><ows:Identifier>8</ows:Identifier><ScaleDenominator>2183910.72603188</ScaleDenominator><TopLeftCorner>-20037508.342787 20037508.342787</TopLeftCorner><TileWidth>256</TileWidth> <TileHeight>256</TileHeight><MatrixWidth>82</MatrixWidth><MatrixHeight>116</MatrixHeight></TileMatrix><TileMatrix><ows:Identifier>9</ows:Identifier><ScaleDenominator>1091955.36301547</ScaleDenominator><TopLeftCorner>-20037508.342787 20037508.342787</TopLeftCorner><TileWidth>256</TileWidth> <TileHeight>256</TileHeight><MatrixWidth>164</MatrixWidth><MatrixHeight>231</MatrixHeight></TileMatrix><TileMatrix><ows:Identifier>10</ows:Identifier><ScaleDenominator>545977.681508207</ScaleDenominator><TopLeftCorner>-20037508.342787 20037508.342787</TopLeftCorner><TileWidth>256</TileWidth> <TileHeight>256</TileHeight><MatrixWidth>327</MatrixWidth><MatrixHeight>461</MatrixHeight></TileMatrix><TileMatrix><ows:Identifier>11</ows:Identifier><ScaleDenominator>272988.840753631</ScaleDenominator><TopLeftCorner>-20037508.342787 20037508.342787</TopLeftCorner><TileWidth>256</TileWidth> <TileHeight>256</TileHeight><MatrixWidth>653</MatrixWidth><MatrixHeight>921</MatrixHeight></TileMatrix><TileMatrix><ows:Identifier>12</ows:Identifier><ScaleDenominator>136494.420376815</ScaleDenominator><TopLeftCorner>-20037508.342787 20037508.342787</TopLeftCorner><TileWidth>256</TileWidth> <TileHeight>256</TileHeight><MatrixWidth>1306</MatrixWidth><MatrixHeight>1842</MatrixHeight></TileMatrix><TileMatrix><ows:Identifier>13</ows:Identifier><ScaleDenominator>68247.2101884077</ScaleDenominator><TopLeftCorner>-20037508.342787 20037508.342787</TopLeftCorner><TileWidth>256</TileWidth> <TileHeight>256</TileHeight><MatrixWidth>2612</MatrixWidth><MatrixHeight>3683</MatrixHeight></TileMatrix><TileMatrix><ows:Identifier>14</ows:Identifier><ScaleDenominator>34123.6050942039</ScaleDenominator><TopLeftCorner>-20037508.342787 20037508.342787</TopLeftCorner><TileWidth>256</TileWidth> <TileHeight>256</TileHeight><MatrixWidth>5224</MatrixWidth><MatrixHeight>7365</MatrixHeight></TileMatrix><TileMatrix><ows:Identifier>15</ows:Identifier><ScaleDenominator>17061.8025475744</ScaleDenominator><TopLeftCorner>-20037508.342787 20037508.342787</TopLeftCorner><TileWidth>256</TileWidth> <TileHeight>256</TileHeight><MatrixWidth>10448</MatrixWidth><MatrixHeight>14729</MatrixHeight></TileMatrix><TileMatrix><ows:Identifier>16</ows:Identifier><ScaleDenominator>8530.9012737872</ScaleDenominator><TopLeftCorner>-20037508.342787 20037508.342787</TopLeftCorner><TileWidth>256</TileWidth> <TileHeight>256</TileHeight><MatrixWidth>20895</MatrixWidth><MatrixHeight>29458</MatrixHeight></TileMatrix><TileMatrix><ows:Identifier>17</ows:Identifier><ScaleDenominator>4265.45063642113</ScaleDenominator><TopLeftCorner>-20037508.342787 20037508.342787</TopLeftCorner><TileWidth>256</TileWidth> <TileHeight>256</TileHeight><MatrixWidth>41790</MatrixWidth><MatrixHeight>58916</MatrixHeight></TileMatrix><TileMatrix><ows:Identifier>18</ows:Identifier><ScaleDenominator>2132.72531868304</ScaleDenominator><TopLeftCorner>-20037508.342787 20037508.342787</TopLeftCorner><TileWidth>256</TileWidth> <TileHeight>256</TileHeight><MatrixWidth>83580</MatrixWidth><MatrixHeight>117832</MatrixHeight></TileMatrix><TileMatrix><ows:Identifier>19</ows:Identifier><ScaleDenominator>1066.36265886905</ScaleDenominator><TopLeftCorner>-20037508.342787 20037508.342787</TopLeftCorner><TileWidth>256</TileWidth> <TileHeight>256</TileHeight><MatrixWidth>167159</MatrixWidth><MatrixHeight>235664</MatrixHeight></TileMatrix></TileMatrixSet></Contents><ServiceMetadataURL xlink:href="https://services-gtaahxbubve6cdc5.a01.azurefd.net/V6ZHFr6zdgNZuVG0/ArcGIS/rest/services/Congressional_Districts/MapServer/WMTS/1.0.0/WMTSCapabilities.xml"/></Capabilities>